BEGIN:VCALENDAR
VERSION:2.0
PRODID:-//מרכז הקבלה - ECPv5.9.1//NONSGML v1.0//EN
CALSCALE:GREGORIAN
METHOD:PUBLISH
X-WR-CALNAME:מרכז הקבלה
X-ORIGINAL-URL:https://www.kabbalah.co.il
X-WR-CALDESC:אירועים ל מרכז הקבלה
BEGIN:VTIMEZONE
TZID:Asia/Jerusalem
BEGIN:DAYLIGHT
TZOFFSETFROM:+0200
TZOFFSETTO:+0300
TZNAME:IDT
DTSTART:20210326T000000
END:DAYLIGHT
BEGIN:STANDARD
TZOFFSETFROM:+0300
TZOFFSETTO:+0200
TZNAME:IST
DTSTART:20211030T230000
END:STANDARD
END:VTIMEZONE
BEGIN:VEVENT
DTSTART;TZID=Asia/Jerusalem:20210215T203000
DTEND;TZID=Asia/Jerusalem:20210308T213000
DTSTAMP:20211004T202714
CREATED:20201221T095400Z
LAST-MODIFIED:20201228T172212Z
UID:51353-1613421000-1615239000@www.kabbalah.co.il
SUMMARY:ילדינו בעיני הכוכבים
DESCRIPTION:בשידור חי\nילדינו בעיני הכוכבים \n15.02.2021 ימי שני בשעה 20:30 \nמרצה: יעל אלואה כהן\, אסטרולוגית קבלית \nפעמים רבות אנו נוהגים לומר על ילדינו “איזה עקשן\, איזו פילפלית \,לילד הזה יש אופי חזק…“. \nכהורים\, אנו תוהים מהי ההשפעה שלנו על ילדינו ועד כמה משפיעים הכוכבים שבמפת הלידה על אישיותם  \nבקורס בן 4 מפגשים ננסה להבין את מבנה הנשמה של ילדינו והשפעת הכוכבים עליהם מרגע  \nהעיבור\, דרך ההריון והלידה ועד הרגע בו הם הופכים לעצמאים ואחראים לגורלם.  \nהקורס יכלול ידע מעולם האסטרולוגיה ומעולמם הטהור של הילדים. \nינתנו דוגמאות מהחיים\, תירגולים ומדיטציות. \n  \nמנושאי הקורס: \n♦   מסע הנשמה של הילדים \n♦   הקשר בין המזלות לבני המשפחה הקרובים \n♦   שפת המזלות על פי היסודות \n♦   כלים לתקשורת בונה עם ילדינו \nעלות: 200 ₪ \nלהרשמה \nללא עלות למנוי Silver ו-Gold \nמנויים חדשים המעוניינים להצטרף למנוי Silver ו-Gold לחצו כאן להרשמה \n 
URL:https://www.kabbalah.co.il/event/astro-kids/
CATEGORIES:קורסים-מתקדמים-בקבלה
ATTACH;FMTTYPE=image/jpeg:https://www.kabbalah.co.il/wp-content/uploads/2020/12/stars_kids_banner-1.jpg
END:VEVENT
END:VCALENDAR